BEGIN:VCALENDAR
VERSION:2.0
PRODID:-//eventon.com NONSGML v1.0//EN
CALSCALE:GREGORIAN
METHOD:PUBLISH
BEGIN:VEVENT
UID:69e4c51ec8a97
DTSTAMP:20260419T120550Z
DTSTART:20241207T210000Z
DTEND:20241208T030000Z
LOCATION:Strickfaden Park 318 Bell Ave.
SUMMARY:Winterfest
DESCRIPTION:Join us December 7th for Perkins Township Winterfest 2024\,  pr
 esented by Rock &amp; Roll Express. THIS IS A FREE EVENT!! Enjoy food truck
 s\,  craft vendors\,  a petting zoo\,  fire pits with a s’mores bar and f
 ree hot chocolate! Don’t miss Santa‘s arrival! We can’t wait to see y
 ou and celebrate[..]\nhttps://perkinstownship.com/events/winterfest/
URL:https://perkinstownship.com/events/winterfest/
END:VEVENT
END:VCALENDAR