BEGIN:VCALENDAR
VERSION:2.0
PRODID:-//eventon.com NONSGML v1.0//EN
CALSCALE:GREGORIAN
METHOD:PUBLISH
BEGIN:VEVENT
UID:69e5c78c64bdc
DTSTAMP:20260420T062828Z
DTSTART:20240815T140000Z
DTEND:20240815T153000Z
LOCATION:Strickfaden Park 318 Bell Ave.
SUMMARY:Coffee with a First Responder
DESCRIPTION:Join us and the Perkins Township Fire Department for coffee wit
 h a first responder! This event is free and open to all seniors\,  or anyon
 e who cares for a senior. Join us for casual conversation\,  ask questions\
 ,  voice concerns\,  and of course enjoy a free cup of coffee. This event[.
 .]\nhttps://perkinstownship.com/events/coffee-with-a-first-responder-2/
URL:https://perkinstownship.com/events/coffee-with-a-first-responder-2/
END:VEVENT
END:VCALENDAR