BEGIN:VCALENDAR
VERSION:2.0
PRODID:-//eventon.com NONSGML v1.0//EN
CALSCALE:GREGORIAN
METHOD:PUBLISH
BEGIN:VEVENT
UID:69ed5772acb5c
DTSTAMP:20260426T000818Z
DTSTART:20240711T230000Z
DTEND:20240712T010000Z
LOCATION:Strickfaden Park 318 Bell Ave.
SUMMARY:Baseball Cookout
DESCRIPTION:𝐄𝐧𝐝 𝐨𝐟 𝐒𝐞𝐚𝐬𝐨𝐧 𝐘𝐨𝐮𝐭
 𝐡 𝐁𝐚𝐬𝐞𝐛𝐚𝐥𝐥 𝐂𝐨𝐨𝐤𝐨𝐮𝐭 &#8212; 
 𝗗𝗮𝘁𝗲: Thursday\,  July 11th 𝗧𝗶𝗺𝗲: 6:00pm-8:00pm 
 𝗼𝗰𝗮𝘁𝗶𝗼𝗻: Strickfaden Park 𝗝𝗼𝗶𝗻 𝘂𝘀 
 𝗼𝗿&#8230; Hamburgers &amp; Hot Dogs! Raffle to win Baseball Prizes
 ! Sponsors &amp; Volunteer Coaches Recognition! **𝗣𝗹𝗲𝗮𝘀𝗲 
 𝗥𝗦𝗩𝗣 𝗯𝘆 𝗝𝘂𝗻𝗲 𝟮𝟳𝘁𝗵! https://forms.
 gle/xUiafDR6xiAs9gpf9\nhttps://perkinstownship.com/events/baseball-cookout/
URL:https://perkinstownship.com/events/baseball-cookout/
END:VEVENT
END:VCALENDAR