BEGIN:VCALENDAR
VERSION:2.0
PRODID:-//eventon.com NONSGML v1.0//EN
CALSCALE:GREGORIAN
METHOD:PUBLISH
BEGIN:VEVENT
UID:69eb79e9517cb
DTSTAMP:20260424T141049Z
DTSTART:20240924T123000Z
DTEND:20240924T133000Z
LOCATION:Township Service Facility 2610 Columbus Ave.
SUMMARY:Trustee Meeting
DESCRIPTION:All Trustee meetings take place at the Perkins Township Service
  Facility located at 2610 Columbus Ave. Sandusky\,  OH 44870. Meetings are 
 open to the public and we do not require any notice to attend. To be placed
  on the agenda for a Trustees&#8217; meeting\,  please make your request to
  the[..]\nhttps://perkinstownship.com/events/trustee-meeting-55/
URL:https://perkinstownship.com/events/trustee-meeting-55/
END:VEVENT
END:VCALENDAR