BEGIN:VCALENDAR
VERSION:2.0
PRODID:-//eventon.com NONSGML v1.0//EN
CALSCALE:GREGORIAN
METHOD:PUBLISH
BEGIN:VEVENT
UID:69e84af3b8f30
DTSTAMP:20260422T041339Z
DTSTART:20230110
DTEND:20230111
LOCATION:
SUMMARY:Baseball Registration
DESCRIPTION:2023 Baseball Registration is open! To register\,  click HERE\n
 https://perkinstownship.com/events/baseball-registration/
URL:https://perkinstownship.com/events/baseball-registration/
END:VEVENT
END:VCALENDAR