BEGIN:VCALENDAR
VERSION:2.0
PRODID:-//eventon.com NONSGML v1.0//EN
CALSCALE:GREGORIAN
METHOD:PUBLISH
BEGIN:VEVENT
UID:69e7413fa4d0b
DTSTAMP:20260421T091959Z
DTSTART:20221114T210000Z
DTEND:20221114T220000Z
LOCATION:Township Service Facility 2610 Columbus Ave.
SUMMARY:Zoning Commission - CANCELED
DESCRIPTION:Applications are available in the Community Development Office\
 ,  or online HERE. All application fees are non-refundable. All application
 s should be accompanied by two copies of the application and supporting doc
 umentation. If you have any questions\,  please contact the Zoning Departme
 nt at 419-609-1435.\nhttps://perkinstownship.com/events/zoning-commission-3
 /
URL:https://perkinstownship.com/events/zoning-commission-3/
END:VEVENT
END:VCALENDAR